BEGIN:VCALENDAR
VERSION:2.0
PRODID:-//Lilla Harrie Byalag - ECPv6.10.2//NONSGML v1.0//EN
CALSCALE:GREGORIAN
METHOD:PUBLISH
X-ORIGINAL-URL:https://lillaharriebyalag.se
X-WR-CALDESC:Händelser för Lilla Harrie Byalag
REFRESH-INTERVAL;VALUE=DURATION:PT1H
X-Robots-Tag:noindex
X-PUBLISHED-TTL:PT1H
BEGIN:VTIMEZONE
TZID:Europe/Stockholm
BEGIN:DAYLIGHT
TZOFFSETFROM:+0100
TZOFFSETTO:+0200
TZNAME:CEST
DTSTART:20210328T010000
END:DAYLIGHT
BEGIN:STANDARD
TZOFFSETFROM:+0200
TZOFFSETTO:+0100
TZNAME:CET
DTSTART:20211031T010000
END:STANDARD
BEGIN:DAYLIGHT
TZOFFSETFROM:+0100
TZOFFSETTO:+0200
TZNAME:CEST
DTSTART:20220327T010000
END:DAYLIGHT
BEGIN:STANDARD
TZOFFSETFROM:+0200
TZOFFSETTO:+0100
TZNAME:CET
DTSTART:20221030T010000
END:STANDARD
BEGIN:DAYLIGHT
TZOFFSETFROM:+0100
TZOFFSETTO:+0200
TZNAME:CEST
DTSTART:20230326T010000
END:DAYLIGHT
BEGIN:STANDARD
TZOFFSETFROM:+0200
TZOFFSETTO:+0100
TZNAME:CET
DTSTART:20231029T010000
END:STANDARD
END:VTIMEZONE
BEGIN:VEVENT
DTSTART;TZID=Europe/Stockholm:20230228T090000
DTEND;TZID=Europe/Stockholm:20230228T110000
DTSTAMP:20260422T124128
CREATED:20230205T220823Z
LAST-MODIFIED:20230205T220845Z
UID:1610-1677574800-1677582000@lillaharriebyalag.se
SUMMARY:Babykafé - Varje tisdag klockan 09:00 - 11:00
DESCRIPTION:Ann-Margreth fyller byagården varje tisdag med de allra minsta barnen och föräldralediga. Minel med fika och kafe tillsammans med andra föräldrar i byn.
URL:https://lillaharriebyalag.se/kalender/babykafe-varje-tisdag-klockan-0900-1100-4/
LOCATION:Lilla Harrie Byagård\, Idrottshemsvägen 4\, Kävlinge\, Skåne\, 24491\, Sverige
END:VEVENT
BEGIN:VEVENT
DTSTART;TZID=Europe/Stockholm:20230221T090000
DTEND;TZID=Europe/Stockholm:20230221T110000
DTSTAMP:20260422T124128
CREATED:20230205T220743Z
LAST-MODIFIED:20230205T220753Z
UID:1608-1676970000-1676977200@lillaharriebyalag.se
SUMMARY:Babykafé - Varje tisdag klockan 09:00 - 11:00
DESCRIPTION:Ann-Margreth fyller byagården varje tisdag med de allra minsta barnen och föräldralediga. Minel med fika och kafe tillsammans med andra föräldrar i byn.
URL:https://lillaharriebyalag.se/kalender/babykafe-varje-tisdag-klockan-0900-1100-3/
LOCATION:Lilla Harrie Byagård\, Idrottshemsvägen 4\, Kävlinge\, Skåne\, 24491\, Sverige
END:VEVENT
BEGIN:VEVENT
DTSTART;TZID=Europe/Stockholm:20230214T140000
DTEND;TZID=Europe/Stockholm:20230214T190000
DTSTAMP:20260422T124128
CREATED:20230205T220032Z
LAST-MODIFIED:20230205T220032Z
UID:1596-1676383200-1676401200@lillaharriebyalag.se
SUMMARY:Alla hjärtansdag kafé på byagården
DESCRIPTION:Den 14 februari mellan 14:00-19:00 finns det möjligt att fika och fira alla hjärtans dag på byagården. Betalning fika kontant/swish. \nArrangemanget anordnas av Ann-Margreth Jakobsson tillsammans med Lilla Harrie Byalag.
URL:https://lillaharriebyalag.se/kalender/alla-hjartansdag-kafe-pa-byagarden/
LOCATION:Lilla Harrie Byagård\, Idrottshemsvägen 4\, Kävlinge\, Skåne\, 24491\, Sverige
ATTACH;FMTTYPE=image/jpeg:https://lillaharriebyalag.se/wp-content/uploads/2023/02/happy_valentines_day_2021-wallpaper-960x540-1.jpg
END:VEVENT
BEGIN:VEVENT
DTSTART;TZID=Europe/Stockholm:20230214T090000
DTEND;TZID=Europe/Stockholm:20230214T110000
DTSTAMP:20260422T124128
CREATED:20230205T220719Z
LAST-MODIFIED:20230205T220719Z
UID:1606-1676365200-1676372400@lillaharriebyalag.se
SUMMARY:Babykafé - Varje tisdag klockan 09:00 - 11:00
DESCRIPTION:Ann-Margreth fyller byagården varje tisdag med de allra minsta barnen och föräldralediga. Minel med fika och kafe tillsammans med andra föräldrar i byn.
URL:https://lillaharriebyalag.se/kalender/babykafe-varje-tisdag-klockan-0900-1100-2/
LOCATION:Lilla Harrie Byagård\, Idrottshemsvägen 4\, Kävlinge\, Skåne\, 24491\, Sverige
END:VEVENT
BEGIN:VEVENT
DTSTART;TZID=Europe/Stockholm:20230207T090000
DTEND;TZID=Europe/Stockholm:20230207T110000
DTSTAMP:20260422T124128
CREATED:20230205T220653Z
LAST-MODIFIED:20230205T220653Z
UID:1604-1675760400-1675767600@lillaharriebyalag.se
SUMMARY:Babykafé - Varje tisdag klockan 09:00 - 11:00
DESCRIPTION:Ann-Margreth fyller byagården varje tisdag med de allra minsta barnen och föräldralediga. Minel med fika och kafe tillsammans med andra föräldrar i byn.
URL:https://lillaharriebyalag.se/kalender/babykafe-varje-tisdag-klockan-0900-1100/
LOCATION:Lilla Harrie Byagård\, Idrottshemsvägen 4\, Kävlinge\, Skåne\, 24491\, Sverige
END:VEVENT
BEGIN:VEVENT
DTSTART;TZID=Europe/Stockholm:20221211T140000
DTEND;TZID=Europe/Stockholm:20221211T163000
DTSTAMP:20260422T124128
CREATED:20221112T203520Z
LAST-MODIFIED:20221112T203544Z
UID:1530-1670767200-1670776200@lillaharriebyalag.se
SUMMARY:Luciafest 2022
DESCRIPTION:Välkomna till luciafest på Byagården den 11 dec. Kl 14.00. Det bjudes på kaffe och kaka. Kanske kommer Tomten om barnen varit snälla! \nArrangör Lilla Harrie Byalag / Ann-Margreth Jakobsson\, Kostnadsfritt.
URL:https://lillaharriebyalag.se/kalender/luciafest-2022/
LOCATION:Lilla Harrie Byagård\, Idrottshemsvägen 4\, Kävlinge\, Skåne\, 24491\, Sverige
ATTACH;FMTTYPE=image/jpeg:https://lillaharriebyalag.se/wp-content/uploads/2021/11/lucia-g2a7a177d4_1280.jpg
END:VEVENT
BEGIN:VEVENT
DTSTART;TZID=Europe/Stockholm:20220430T190000
DTEND;TZID=Europe/Stockholm:20220430T220000
DTSTAMP:20260422T124128
CREATED:20220424T195135Z
LAST-MODIFIED:20220424T195708Z
UID:1359-1651345200-1651356000@lillaharriebyalag.se
SUMMARY:Valborg 2022
DESCRIPTION:Efter några omtumlande år är det åter dags för valborgsfirande på ”idrottsplatsen”. Klockan 19:00 tänder vi grillarna\, klockan 20:00 tänds brasan. Välkommna!\n\nEftersom brasan nu nått maximum mått\, enligt räddningstjänsten riktlinjer\, tar vi inte emot mer kvistar och grenar.
URL:https://lillaharriebyalag.se/kalender/valborg-2022/
LOCATION:Lilla Harrie Idrottsplats\, Idrottshemsvägen 4\,\, Kävlinge\, 244 91\, Sverige
ATTACH;FMTTYPE=image/jpeg:https://lillaharriebyalag.se/wp-content/uploads/2022/04/valborg.jpg
END:VEVENT
BEGIN:VEVENT
DTSTART;TZID=Europe/Stockholm:20220406T190000
DTEND;TZID=Europe/Stockholm:20220406T210000
DTSTAMP:20260422T124128
CREATED:20211130T230132Z
LAST-MODIFIED:20220110T194604Z
UID:1312-1649271600-1649278800@lillaharriebyalag.se
SUMMARY:Första hjälpen utbildning
DESCRIPTION:Lilla Harrie byalag anordnar första hjälpen utbildning och utbildning på hjärtstartare. \nI början av 2020 vann Lilla Harrie byalag en hjärtstartare som finns monterad i vår byagård. Till denna hjärtstartare ingick även utbildning vilket vi nu erbjuder till våra medlemmar. Totalt finns 20 platser\, först till kvarn. \nAnmälan sker på följande länk (Du måste göra en anmälan per deltagare): \nhttps://forms.office.com/r/iqQFzrcTTW \n 
URL:https://lillaharriebyalag.se/kalender/forsta-hjalpen-utbildning/
LOCATION:Lilla Harrie Byagård\, Idrottshemsvägen 4\, Kävlinge\, Skåne\, 24491\, Sverige
ATTACH;FMTTYPE=image/jpeg:https://lillaharriebyalag.se/wp-content/uploads/2021/11/HLR_utbildning-scaled-e1638313262549.jpg
END:VEVENT
BEGIN:VEVENT
DTSTART;TZID=Europe/Stockholm:20220217T190000
DTEND;TZID=Europe/Stockholm:20220217T203000
DTSTAMP:20260422T124128
CREATED:20220124T214237Z
LAST-MODIFIED:20220124T214540Z
UID:1316-1645124400-1645129800@lillaharriebyalag.se
SUMMARY:Årsmöte 2022
DESCRIPTION:Anmäl dig till årsmötet 2022-02-17\n\nBetala medlemsavgiften för 2022\n250 kr till Swish 1233445475 eller bankgiro 352-9401\nAnge namn och adress \n\n\nGör digital anmälan till årsmötet\nhttps://forms.office.com/r/tdxTTh4eAf \n\n\nInstruktioner\nDu får ett mail med anslutningsinstruktioner när det närmar sig\n\n  \nVi behöver nya medlemmar till styrelsen!\nStyrelsen söker nya krafter som är intresserade av att bidra för vår by! Är du intressserad? Kontakta valberedningen Paula Letz 0736-567664 eller fornamn.efternamn@hotmail.com. \nVarför är årsmötet digitalt?\nVi önskar att vi kunde hålla årsmötet som vanligt i vår Byagård. Tyvärr tillåter inte samhällsspridningen av COVID-19 detta just nu. Lilla Harrie Byalag följer de restriktioner som gäller i samhället. Vi hoppas att på att kunna snart igen samla oss i vår byagård! \n  \nInstruktioner för digitalt möte\nÅrets årsmöte kommer att skötas helt digitalt genom Microsoft Teams. Om du redan är van användare av Microsoft Teams så gör du som du brukar. Om du inte tidigare har använt Microsoft Teams så har Bylaget gjort förenklade instruktioner nedan. \n\nInstruktioner för att ansluta med dator (Klicka för att öppna)\nInstruktioner för att ansluta med surfplatta eller mobiltelefon (Klicka för att öppna)\nBehöver du ytterligare hjälp? Kontakta oss styrelsen@lillaharriebyalag.se
URL:https://lillaharriebyalag.se/kalender/arsmote-2022/
LOCATION:Onlinemöte
END:VEVENT
BEGIN:VEVENT
DTSTART;TZID=Europe/Stockholm:20211212T140000
DTEND;TZID=Europe/Stockholm:20211212T163000
DTSTAMP:20260422T124128
CREATED:20211130T223657Z
LAST-MODIFIED:20211130T223657Z
UID:1309-1639317600-1639326600@lillaharriebyalag.se
SUMMARY:Luciafest på Byagården
DESCRIPTION:Välkomna till luciafest på Byagården den 12 dec. Kl 14.00. Det bjudes på kaffe och kaka. Kanske kommer Tomten om barnen varit snälla! \nArrangör Lilla Harrie Byalag / Ann-Margreth Jakobsson\, Kostnadsfritt. COVID-19 resktriktioner gäller och eventet kan komma att behöva justeras utifrån gällande lagstiftning. Först på plats. När det är fullt stängs insläppet.
URL:https://lillaharriebyalag.se/kalender/luciafest-pa-byagarden/
LOCATION:Lilla Harrie Byagård\, Idrottshemsvägen 4\, Kävlinge\, Skåne\, 24491\, Sverige
ATTACH;FMTTYPE=image/jpeg:https://lillaharriebyalag.se/wp-content/uploads/2021/11/lucia-g2a7a177d4_1280.jpg
END:VEVENT
BEGIN:VEVENT
DTSTART;TZID=Europe/Stockholm:20211112T183000
DTEND;TZID=Europe/Stockholm:20211112T220000
DTSTAMP:20260422T124128
CREATED:20211025T204258Z
LAST-MODIFIED:20211025T205536Z
UID:1302-1636741800-1636754400@lillaharriebyalag.se
SUMMARY:Pilsnerkväll
DESCRIPTION:Välkomna till pilsnerkväll på Lilla Harrie Byagård. Vi startar 18:30 uppe i gården! Ta med öl\, snacks\, om du är hungrig något att äta! Vi snackar om byn\, vad som hände förr eller precis vad du själv vill! \nHar du pingisrack? Ta med det! Vi ser till att pingisbordet står på plats inför kvällen! \nArrangör för kvällen är Mats och Bo. Arrangemanget är för boende i Lilla Harrie. \nVäl mött!
URL:https://lillaharriebyalag.se/kalender/pilsnerkvall/
LOCATION:Lilla Harrie Byagård\, Idrottshemsvägen 4\, Kävlinge\, Skåne\, 24491\, Sverige
ATTACH;FMTTYPE=image/jpeg:https://lillaharriebyalag.se/wp-content/uploads/2021/10/beer1.jpg
END:VEVENT
BEGIN:VEVENT
DTSTART;TZID=Europe/Stockholm:20211109T170000
DTEND;TZID=Europe/Stockholm:20211109T183000
DTSTAMP:20260422T124128
CREATED:20211014T210510Z
LAST-MODIFIED:20211014T210511Z
UID:1232-1636477200-1636482600@lillaharriebyalag.se
SUMMARY:Spagettikväll
DESCRIPTION:Den 9/11 November är det dags för spagettikväll i Byagården i Lilla Harrie kl 17:00-18:30 ta med familjen och njut av en härlig stund tillsammans. \nVi ger er även möjligheten till att beställa Take -Away för er som inte kan delta men ändå vill njuta av en härlig middag. Take -Away hämtas mellan 16:30-17:00 \nOBS Anmälan krävs för både sittning i Byagården samt Take –Away. \nAnmälan till Kavlinge.bou@svenskakyrkan.se (Sista anmälningsdagen 18/10) \nGlöm ej skicka in allergier!
URL:https://lillaharriebyalag.se/kalender/spagettikvall/
LOCATION:Lilla Harrie Byagård\, Idrottshemsvägen 4\, Kävlinge\, Skåne\, 24491\, Sverige
ATTACH;FMTTYPE=image/jpeg:https://lillaharriebyalag.se/wp-content/uploads/2021/10/spagetti.jpg
END:VEVENT
BEGIN:VEVENT
DTSTART;TZID=Europe/Stockholm:20211030T130000
DTEND;TZID=Europe/Stockholm:20211030T140000
DTSTAMP:20260422T124128
CREATED:20211014T211622Z
LAST-MODIFIED:20211014T211749Z
UID:1238-1635598800-1635602400@lillaharriebyalag.se
SUMMARY:Teater - Drakungar (3-5 år)
DESCRIPTION:En fantasyberättelse om den till synes eviga kampen två smådrakar mellan (för barn mellan 3 och 5 år)\nHemma i drakgrottan vankas det återigen bråk och osämja. De två drakbarnen har ännu en gång råkat i luven på varandra. Att det ska vara så svårt att komma överens\, trots att drakmamman gång på gång har sagt åt sina ungar att försöka vara snälla mot varandra. \nEn föreställning om den glödande ilskan man känner i sin lilla kropp\, när man inte vill behöva dela sin tillvaro\, sitt hem och framför allt sin mammas kärlek med ett irriterande syskon. Efter föreställningen bjuds publiken in till att ihop med skådespelarna få upptäcka och leka i drakgrottan. \nMedverkande\nJosefin Larsson\nElin Rusk \nKonstnärligt team\nBerättelse & regi: Iben West\nManus: Ensemblen & Iben West\nScenografi: Elin Adler\nLjus: Anna Nässlander\nMusik & ljud: Catharina Jaunviksna\nRöstcoachning & drakmammans röst: Zofia Åsenlöf\nKostym: Khira Fromark\nKonstruktion: Måns Ekander\nRekvisita: Désirée Holmberg\nLjudteknik & syntolkning: Narjes Al-Ansari\nMarknadsföring & turné: Mario Castro Sepulveda\nProduktion: Stina Engquist \nProducent\nTeater 23 \nBiljettförsäljning\n\nBiljetter köpes hos Nilsson & Son Radio-TV AB\, Mårtensgatan 7\, Kävlinge. Telefon: 046-732466 Biljettpris 50 kr /person.
URL:https://lillaharriebyalag.se/kalender/teater-drakungar-3-5-ar/
LOCATION:Lilla Harrie Byagård\, Idrottshemsvägen 4\, Kävlinge\, Skåne\, 24491\, Sverige
ATTACH;FMTTYPE=image/png:https://lillaharriebyalag.se/wp-content/uploads/2021/10/teater.png
END:VEVENT
END:VCALENDAR