BEGIN:VCALENDAR
VERSION:2.0
PRODID:-//Lilla Harrie Byalag - ECPv6.10.2//NONSGML v1.0//EN
CALSCALE:GREGORIAN
METHOD:PUBLISH
X-WR-CALNAME:Lilla Harrie Byalag
X-ORIGINAL-URL:https://lillaharriebyalag.se
X-WR-CALDESC:Händelser för Lilla Harrie Byalag
REFRESH-INTERVAL;VALUE=DURATION:PT1H
X-Robots-Tag:noindex
X-PUBLISHED-TTL:PT1H
BEGIN:VTIMEZONE
TZID:Europe/Stockholm
BEGIN:DAYLIGHT
TZOFFSETFROM:+0100
TZOFFSETTO:+0200
TZNAME:CEST
DTSTART:20210328T010000
END:DAYLIGHT
BEGIN:STANDARD
TZOFFSETFROM:+0200
TZOFFSETTO:+0100
TZNAME:CET
DTSTART:20211031T010000
END:STANDARD
END:VTIMEZONE
BEGIN:VEVENT
DTSTART;TZID=Europe/Stockholm:20211030T130000
DTEND;TZID=Europe/Stockholm:20211030T140000
DTSTAMP:20260422T141631
CREATED:20211014T211622Z
LAST-MODIFIED:20211014T211749Z
UID:1238-1635598800-1635602400@lillaharriebyalag.se
SUMMARY:Teater - Drakungar (3-5 år)
DESCRIPTION:En fantasyberättelse om den till synes eviga kampen två smådrakar mellan (för barn mellan 3 och 5 år)\nHemma i drakgrottan vankas det återigen bråk och osämja. De två drakbarnen har ännu en gång råkat i luven på varandra. Att det ska vara så svårt att komma överens\, trots att drakmamman gång på gång har sagt åt sina ungar att försöka vara snälla mot varandra. \nEn föreställning om den glödande ilskan man känner i sin lilla kropp\, när man inte vill behöva dela sin tillvaro\, sitt hem och framför allt sin mammas kärlek med ett irriterande syskon. Efter föreställningen bjuds publiken in till att ihop med skådespelarna få upptäcka och leka i drakgrottan. \nMedverkande\nJosefin Larsson\nElin Rusk \nKonstnärligt team\nBerättelse & regi: Iben West\nManus: Ensemblen & Iben West\nScenografi: Elin Adler\nLjus: Anna Nässlander\nMusik & ljud: Catharina Jaunviksna\nRöstcoachning & drakmammans röst: Zofia Åsenlöf\nKostym: Khira Fromark\nKonstruktion: Måns Ekander\nRekvisita: Désirée Holmberg\nLjudteknik & syntolkning: Narjes Al-Ansari\nMarknadsföring & turné: Mario Castro Sepulveda\nProduktion: Stina Engquist \nProducent\nTeater 23 \nBiljettförsäljning\n\nBiljetter köpes hos Nilsson & Son Radio-TV AB\, Mårtensgatan 7\, Kävlinge. Telefon: 046-732466 Biljettpris 50 kr /person.
URL:https://lillaharriebyalag.se/kalender/teater-drakungar-3-5-ar/
LOCATION:Lilla Harrie Byagård\, Idrottshemsvägen 4\, Kävlinge\, Skåne\, 24491\, Sverige
ATTACH;FMTTYPE=image/png:https://lillaharriebyalag.se/wp-content/uploads/2021/10/teater.png
END:VEVENT
END:VCALENDAR